2.5
0.0
0.0
-2.5
160001.25
599998.75
