2.5
0.0
0.0
-2.5
220001.25
449998.75
