2.5
0.0
0.0
-2.5
120001.25
624998.75
