2.5
0.0
0.0
-2.5
260001.25
649998.75
