2.5
0.0
0.0
-2.5
260001.25
449998.75
