1.5625
0
0
-1.5625
136281.754024
476280.790791
