1.5625
0
0
-1.5625
195156.572024
506934.369594
