1.5625
0
0
-1.5625
141126.371024
448014.857398
