1.5625
0
0
-1.5625
116859.485024
531975.867323
