1.5625
0
0
-1.5625
194313.184024
596576.627193
