1.5625
0
0
-1.5625
170085.390024
434892.150638
