1.5625
0
0
-1.5625
185495.154024
589365.885031
