1.5625
0
0
-1.5625
227190.969024
523856.744496
