1.5625
0
0
-1.5625
259944.885024
566748.289295
