1.5625
0
0
-1.5625
124310.043024
441893.71887
