1.5625
0
0
-1.5625
234599.939024
552250.755043
