1.5625
0
0
-1.5625
208804.742024
391624.242941
