1.5625
0
0
-1.5625
123169.750024
516282.86637
