1.5625
0
0
-1.5625
210505.136024
456379.829677
