1.5625
0
0
-1.5625
125806.178024
475575.878012
