1.5625
0
0
-1.5625
200079.405024
374741.063406
