1.5625
0
0
-1.5625
174610.343024
394094.888449
