1.5625
0
0
-1.5625
157296.530024
543375.706795
