1.5625
0
0
-1.5625
116534.791024
396930.560441
