1.5625
0
0
-1.5625
168540.089024
398213.211606
