1.5625
0
0
-1.5625
125008.838024
512629.010953
