1.5625
0
0
-1.5625
231711.276024
457677.81202
