1.5625
0
0
-1.5625
95925.0500236
459799.146906
