1.5625
0
0
-1.5625
143425.556024
373481.347697
