1.5625
0
0
-1.5625
177449.651024
432897.397287
