1.5625
0
0
-1.5625
166787.474024
501711.503839
