1.5625
0
0
-1.5625
33233.4600236
376699.809539
