1.5625
0
0
-1.5625
137901.906024
406109.853087
