1.5625
0
0
-1.5625
207004.464024
551289.690472
