1.5625
0
0
-1.5625
261590.786024
592259.622835
