1.5625
0
0
-1.5625
124885.205024
467316.451169
