1.5625
0
0
-1.5625
68532.1260236
439152.300748
