1.5625
0
0
-1.5625
177958.820024
586020.56998
