1.5625
0
0
-1.5625
177929.884024
558197.33274
