1.5625
0
0
-1.5625
212486.992024
525202.742134
