1.5625
0
0
-1.5625
141514.234024
423512.557323
