1.5625
0
0
-1.5625
163645.576024
368381.307961
