1.5625
0
0
-1.5625
138616.972024
455041.507449
