1.5625
0
0
-1.5625
105737.965024
532507.98526
