1.5625
0
0
-1.5625
137609.969024
477790.58678
