1.5625
0
0
-1.5625
144956.600024
438886.518492
