1.5625
0
0
-1.5625
62274.3660236
370061.724154
