1.5625
0
0
-1.5625
234028.403024
514606.658618
