1.5625
0
0
-1.5625
138847.179024
459729.405437
