1.5625
0
0
-1.5625
202585.461024
537683.177354
